BEGIN:VCALENDAR
VERSION:2.0
PRODID:-//CantinaJazz - ECPv6.15.20//NONSGML v1.0//EN
CALSCALE:GREGORIAN
METHOD:PUBLISH
X-ORIGINAL-URL:https://cantinajazz.com
X-WR-CALDESC:Eventi per CantinaJazz
REFRESH-INTERVAL;VALUE=DURATION:PT1H
X-Robots-Tag:noindex
X-PUBLISHED-TTL:PT1H
BEGIN:VTIMEZONE
TZID:UTC
BEGIN:STANDARD
TZOFFSETFROM:+0000
TZOFFSETTO:+0000
TZNAME:UTC
DTSTART:20250101T000000
END:STANDARD
END:VTIMEZONE
BEGIN:VEVENT
DTSTART;TZID=UTC:20260502T203000
DTEND;TZID=UTC:20260502T233000
DTSTAMP:20260423T143812
CREATED:20260419T090219Z
LAST-MODIFIED:20260420T104934Z
UID:6447-1777753800-1777764600@cantinajazz.com
SUMMARY:Spring Is Here!
DESCRIPTION:Descrizione sintetica: \nPercorso eno-gastronomico: \n\nJabalì – Spumante Brut rosato – Degli Azzoni Avogadro\nPanzanella di verdure con sgombro scottato\n Villa Sole 2024 – IGT Toscana Pinot Grigio – Degli Azzoni Avogadro\nBocconcino di baccalà al verde e tarallo croccante\nLa Prima Volta 2024 – IGT Toscana rosato – Fattoria Uccelliera\nRisotto asparagi mazzancolle e limone\nGinepraia rosso 2023 – IGT Toscana rosso – Fattoria Uccelliera\nTranciato di spada con caponata di melanzane\nBaciamano 2016 – Visanto di San Torpé DOC – Degli Azzoni Avogadro\nCantuccini con cioccolato e arancia\nCaffè Trinci selezione supercrema\n\nFormazione musicale:\nMicaela Lombardi (voce)\, Alessio Bianchi (tromba)\, Vladimiro Carboni (batteria)\, Giacomo Riggi (piano)\, Nino Pellegrini (c.basso). direzione artistica: Emiliano Loconsolo. \n\nPrenotazione e pagamento quote \nLa quota di partecipazione\, onnicomprensiva e non frazionabile\, è 50 euro/persona. La prenotazione è obbligatoria online a questa pagina dell’Associazione Musicale Sinestesica. Per ulteriori informazioni o per segnalare problemi nella procedura di prenotazione\, chiamare/whatsapp il 320 8787288 \n\nDescrizione dettagliata: \nSping is here! Il famoso brano degli anni ’30 è l’inno ufficiale della primavera che erompe\, e che vogliamo festeggiare in un percorso di suoni e sapori che inizia con un elogio alla freschezza e alla giovanilità e conclude con dei chiari accenni all’estate. Sperimenteremo come la musica sappia esaltare ogni momento di questa stagione\, e come i sapori freschi e sapidi del pesce possano trovare accordo sia con i bianchi che con i rossi. Dagli oli al caffé\, da “Spring is here” a “Summertime”\, sperimenteremo un caleidoscopio sensoriale da non perdere!
URL:https://cantinajazz.com/event/sih/
LOCATION:circolo ARCI Il Fortino\, via della Sirenetta\, 6\, Pisa\, ITALY\, 56127\, Italia
END:VEVENT
END:VCALENDAR